BEGIN:VCALENDAR
VERSION:2.0
PRODID:-//178.254.11.49//NONSGML kigkonsult.se iCalcreator 2.20//
CALSCALE:GREGORIAN
METHOD:PUBLISH
X-WR-TIMEZONE:UTC
BEGIN:VEVENT
UID:event5@Europäische Hochschule der Humanökologie
DTSTAMP:20260419T121413Z
CATEGORIES:Organized Section
DESCRIPTION:STEM Education\nCategory: Organized Section\nLink: https://www.
 coh-europe.de/index.php?option=com_jem&view=event&id=5:stem-and-human-ecol
 ogy\n
DTSTART:20220902T100500Z
DTEND:20220902T112000Z
LOCATION:Ball room\,Villa\,IASS - Potsdam
SUMMARY:STEM Education
URL:https://www.coh-europe.de/index.php?option=com_jem&view=event&id=5:stem
 -and-human-ecology
END:VEVENT
END:VCALENDAR
