BEGIN:VCALENDAR
VERSION:2.0
PRODID:-//178.254.11.49//NONSGML kigkonsult.se iCalcreator 2.20//
CALSCALE:GREGORIAN
METHOD:PUBLISH
X-WR-TIMEZONE:UTC
BEGIN:VEVENT
UID:event36@Europäische Hochschule der Humanökologie
DTSTAMP:20260419T183144Z
CATEGORIES:Organized Section
DESCRIPTION:Meal Cycle\nCategory: Organized Section\nLink: https://www.coh-
 europe.de/index.php?option=com_jem&view=event&id=36:meal-cycle\n
DTSTART:20220902T100500Z
DTEND:20220902T112000Z
LOCATION:Ball room\,Villa\,IASS - Potsdam
SUMMARY:Meal Cycle
URL:https://www.coh-europe.de/index.php?option=com_jem&view=event&id=36:mea
 l-cycle
END:VEVENT
END:VCALENDAR
