BEGIN:VCALENDAR
VERSION:2.0
PRODID:-//178.254.11.49//NONSGML kigkonsult.se iCalcreator 2.20//
CALSCALE:GREGORIAN
METHOD:PUBLISH
X-WR-TIMEZONE:UTC
BEGIN:VEVENT
UID:event48@Europäische Hochschule der Humanökologie
DTSTAMP:20260419T174706Z
CATEGORIES:September 3\,2022
DESCRIPTION:Reports from the conference\nCategory: September 3\,2022\nLink:
  https://www.coh-europe.de/index.php?option=com_jem&view=event&id=48:repor
 ts-from-the-conference\n
DTSTART:20220903T091500Z
DTEND:20220903T103000Z
LOCATION:Ball room\,Villa\,IASS - Potsdam
SUMMARY:Reports from the conference
URL:https://www.coh-europe.de/index.php?option=com_jem&view=event&id=48:rep
 orts-from-the-conference
END:VEVENT
END:VCALENDAR
