BEGIN:VCALENDAR
VERSION:2.0
PRODID:-//178.254.11.49//NONSGML kigkonsult.se iCalcreator 2.20//
CALSCALE:GREGORIAN
METHOD:PUBLISH
X-WR-TIMEZONE:UTC
BEGIN:VEVENT
UID:event22@Europäische Hochschule der Humanökologie
DTSTAMP:20260419T150048Z
CATEGORIES:Presentation Session
DESCRIPTION:Art of Living\nCategory: Presentation Session\nLink: https://ww
 w.coh-europe.de/index.php?option=com_jem&view=event&id=22:art-of-living\n
DTSTART:20220901T095000Z
DTEND:20220901T110500Z
LOCATION:Salon South\,Villa\,IASS - Potsdam\,Germany
SUMMARY:Art of Living
URL:https://www.coh-europe.de/index.php?option=com_jem&view=event&id=22:art
 -of-living
END:VEVENT
BEGIN:VEVENT
UID:event24@Europäische Hochschule der Humanökologie
DTSTAMP:20260419T150048Z
CATEGORIES:Presentation Session
DESCRIPTION:Radical Human Ecology\nCategory: Presentation Session\nLink: ht
 tps://www.coh-europe.de/index.php?option=com_jem&view=event&id=24:radical-
 human-ecology\n
DTSTART:20220901T112000Z
DTEND:20220901T123500Z
LOCATION:Salon South\,Villa\,IASS - Potsdam\,Germany
SUMMARY:Radical Human Ecology
URL:https://www.coh-europe.de/index.php?option=com_jem&view=event&id=24:rad
 ical-human-ecology
END:VEVENT
BEGIN:VEVENT
UID:event30@Europäische Hochschule der Humanökologie
DTSTAMP:20260419T150048Z
CATEGORIES:Presentation Session
DESCRIPTION:Transdisciplinarity\nCategory: Presentation Session\nLink: http
 s://www.coh-europe.de/index.php?option=com_jem&view=event&id=30:transdisci
 plinarity\n
DTSTART:20220901T150000Z
DTEND:20220901T161500Z
LOCATION:Salon South\,Villa\,IASS - Potsdam\,Germany
SUMMARY:Transdisciplinarity
URL:https://www.coh-europe.de/index.php?option=com_jem&view=event&id=30:tra
 nsdisciplinarity
END:VEVENT
BEGIN:VEVENT
UID:event33@Europäische Hochschule der Humanökologie
DTSTAMP:20260419T150048Z
CATEGORIES:Presentation Session
DESCRIPTION:Environmental Justice\nCategory: Presentation Session\nLink: ht
 tps://www.coh-europe.de/index.php?option=com_jem&view=event&id=33:environm
 ental-justice\n
DTSTART:20220901T163000Z
DTEND:20220901T174500Z
LOCATION:Salon South\,Villa\,IASS - Potsdam\,Germany
SUMMARY:Environmental Justice
URL:https://www.coh-europe.de/index.php?option=com_jem&view=event&id=33:env
 ironmental-justice
END:VEVENT
BEGIN:VEVENT
UID:event39@Europäische Hochschule der Humanökologie
DTSTAMP:20260419T150048Z
CATEGORIES:Presentation Session
DESCRIPTION:Food Supply\nCategory: Presentation Session\nLink: https://www.
 coh-europe.de/index.php?option=com_jem&view=event&id=39:food-supply\n
DTSTART:20220902T113000Z
DTEND:20220902T124500Z
LOCATION:Salon South\,Villa\,IASS - Potsdam\,Germany
SUMMARY:Food Supply
URL:https://www.coh-europe.de/index.php?option=com_jem&view=event&id=39:foo
 d-supply
END:VEVENT
BEGIN:VEVENT
UID:event42@Europäische Hochschule der Humanökologie
DTSTAMP:20260419T150048Z
CATEGORIES:Presentation Session
DESCRIPTION:War & Politics\nCategory: Presentation Session\nLink: https://w
 ww.coh-europe.de/index.php?option=com_jem&view=event&id=42:war-politics\n
DTSTART:20220902T150000Z
DTEND:20220902T161500Z
LOCATION:Salon South\,Villa\,IASS - Potsdam\,Germany
SUMMARY:War & Politics
URL:https://www.coh-europe.de/index.php?option=com_jem&view=event&id=42:war
 -politics
END:VEVENT
BEGIN:VEVENT
UID:event45@Europäische Hochschule der Humanökologie
DTSTAMP:20260419T150048Z
CATEGORIES:Organized Session
DESCRIPTION:Digitalization\nCategory: Organized Session\nLink: https://www.
 coh-europe.de/index.php?option=com_jem&view=event&id=45:digitalization\n
DTSTART:20220902T163000Z
DTEND:20220902T174500Z
LOCATION:Salon South\,Villa\,IASS - Potsdam\,Germany
SUMMARY:Digitalization
URL:https://www.coh-europe.de/index.php?option=com_jem&view=event&id=45:dig
 italization
END:VEVENT
END:VCALENDAR
